BEGIN:VCALENDAR
VERSION:2.0
PRODID:-//wp-events-plugin.com//7.2.3.1//EN
TZID:America/Santo_Domingo
X-WR-TIMEZONE:America/Santo_Domingo
BEGIN:VEVENT
UID:1@pediatriadominicana.org
DTSTART;TZID=America/Santo_Domingo:20250327T080000
DTEND;TZID=America/Santo_Domingo:20250327T114500
DTSTAMP:20250319T204345Z
URL:https://pediatriadominicana.org/events/hallazgos-dermatologicos-mas-co
 munes-de-la-primera-infancia-hasta-la-adolescencia/
SUMMARY:Hallazgos dermatológicos más comunes de la primera infancia hasta
  la adolescencia
DESCRIPTION:Expositor: Dra. Marlene Ramírez\, Dermatóloga pediatra.
ATTACH;FMTTYPE=image/jpeg:https://pediatriadominicana.org/wp-content/uploa
 ds/2025/03/WhatsApp-Image-2025-03-18-at-12.45.32_29027498.jpg
CATEGORIES:Eventos
LOCATION:Renaissance Santo Domingo Jaragua Hotel & Casino\, George Washingt
 on Ave. 367\, Apto. Postal 769-2\, Santo Domingo 07692\, Dominican Republi
 c\, Santo Domingo\, Santo Domingo\, 07692\, Dominican Republic
X-APPLE-STRUCTURED-LOCATION;VALUE=URI;X-ADDRESS=George Washington Ave. 367\
 , Apto. Postal 769-2\, Santo Domingo 07692\, Dominican Republic\, Santo Do
 mingo\, Santo Domingo\, 07692\, Dominican Republic;X-APPLE-RADIUS=100;X-TI
 TLE=Renaissance Santo Domingo Jaragua Hotel & Casino:geo:0,0
END:VEVENT
BEGIN:VTIMEZONE
TZID:America/Santo_Domingo
X-LIC-LOCATION:America/Santo_Domingo
BEGIN:STANDARD
DTSTART:20240327T080000
TZOFFSETFROM:-0400
TZOFFSETTO:-0400
TZNAME:AST
END:STANDARD
END:VTIMEZONE
END:VCALENDAR